BEGIN:VCALENDAR
VERSION:2.0
PRODID:-//hacksw/handcal//NONSGML v1.0//EN
BEGIN:VEVENT
DTSTART:20200623T090000
DTEND:20200623T180500
LOCATION:Online ou en présentiel sur Nantes
ORGANIZER;CN=Yvane LE DOT:MAILTO:yvane@ledot.ca
SUMMARY:Développer votre LEADERSHIP avec le Model MBTI -Offre continue
DESCRIPTION:Saisissez l'opportunité d'acquérir une compréhension approfondie de vous même et de votre mode d'interaction avec les autres !L'école Centrale de Nantes et l'association Centrale Nantes Alumni sont...
URL:https://www.centraliens-nantes.org/fr/event/developper-votre-leadership-avec-le-model-mbti-offre-continue/2020/06/23/479
BEGIN:VALARM
TRIGGER:-P0DT1H0M0S
ACTION:DISPLAY
END:VALARM
END:VEVENT
END:VCALENDAR