BEGIN:VCALENDAR
VERSION:2.0
PRODID:-//hacksw/handcal//NONSGML v1.0//EN
BEGIN:VEVENT
DTSTART:20260520T163000Z
DTEND:20260520T203000Z
LOCATION:A définir en centre-ville, inscrivez vous pour être tenus au courant \n59000 Lille
ORGANIZER;CN=Thibault DE PARADES - Nord et Pas-de-Calais (dép. 59, 62):MAILTO:thibault.de.parades@free.fr
SUMMARY:Rencontres Etudiants - Diplômés LILLE
DESCRIPTION:\n🌍 Connecte-toi au réseau Centrale Nantes depuis Lille et le Nord-Pas-de-Calais !Les groupes régionaux des écoles Centrale et Supélec dans la région Nord-Pas-de-Calais sont ravis de t’inviter aux...
URL:https://www.centraliens-nantes.org/fr/group/nord-et-pas-de-calais-dep-59-62/129/calendar/rencontres-etudiants-diplomes-lille/2026/05/20/4242
BEGIN:VALARM
TRIGGER:-P0DT1H0M0S
ACTION:DISPLAY
END:VALARM
END:VEVENT
END:VCALENDAR