BEGIN:VCALENDAR
VERSION:2.0
PRODID:-//hacksw/handcal//NONSGML v1.0//EN
BEGIN:VEVENT
DTSTART:20260519T160000Z
DTEND:20260519T180000Z
LOCATION:Campus Arts et Métiers d’Aix-en-Provence - Salle La Modèlerie \n2, Cours des Arts et Métiers \n13617 AIX-EN-PROVENCE
ORGANIZER;CN=Eve-Emmanuelle MALIGORNE - Provence Alpes (dép. 04, 05, 13, 83, 84):MAILTO:eve-emmanuelle.maligorne@ec-nantes.fr
SUMMARY:Conférence-débat "Fusion nucléaire : Les défis d’ITER"
DESCRIPTION:Conférence organisée par le Groupe Régional Sfen Provence Conférence - débat animée par : GILLES PERRIERChef de département Sûreté Qualité ITER L'accès à cette conférence est gratuit mais uniquement...
URL:https://www.centraliens-nantes.org/fr/group/provence-alpes-dep-04-05-13-83-84/26/calendar/conference-debat-fusion-nucleaire-les-defis-d-iter/2026/05/19/4238
BEGIN:VALARM
TRIGGER:-P0DT1H0M0S
ACTION:DISPLAY
END:VALARM
END:VEVENT
END:VCALENDAR