BEGIN:VCALENDAR
VERSION:2.0
PRODID:-//hacksw/handcal//NONSGML v1.0//EN
BEGIN:VEVENT
DTSTART:20260309T173000Z
DTEND:20260309T210000Z
LOCATION:Centrale Nantes - Amphithéâtre S \n1, Rue de la Noë \n44321 NANTES
ORGANIZER;CN=Mattias ALLIO - Loire Atlantique (dép. 44):MAILTO:alliomattias1@gmail.com
SUMMARY:Table Ronde - Compétitivité et résilience de la zone d'activité du Port de Nantes-Saint-Nazaire
DESCRIPTION:Le Portail de l'Intelligence Économique en partenariat avec Centrale Nantes Alumni a le plaisir de vous inviter à la troisième édition des Cercles Territoriaux, qui se tiendra à Centrale Nantes.👉...
URL:https://www.centraliens-nantes.org/fr/group/loire-atlantique-dep-44/123/calendar/table-ronde-competitivite-et-resilience-de-la-zone-d-activite-du-port-de-nantes-saint-nazaire/2026/03/09/4144
BEGIN:VALARM
TRIGGER:-P0DT1H0M0S
ACTION:DISPLAY
END:VALARM
END:VEVENT
END:VCALENDAR