BEGIN:VCALENDAR
VERSION:2.0
PRODID:-//hacksw/handcal//NONSGML v1.0//EN
BEGIN:VEVENT
DTSTART:20260312T090000Z
DTEND:20260312T180000Z
LOCATION:Campus Centrale Nantes - Bâtiment L \n1, Rue de la Noë \n44321 NANTES
ORGANIZER;CN=Chloé PERRIER - Loire Atlantique (dép. 44):MAILTO:chloe.perrier66@gmail.com
SUMMARY:Forum REFLOW à Centrale Nantes : une journée d'exploration de la démarche low-tech
DESCRIPTION:Les étudiants de l'option Ingénierie Low-Tech organisent cette année la 4ème édition du forum Low-Tech, qui revient avec un nouveau nom : Forum REFLOW - Reinvent Engineering For Low-Tech.Les forums...
URL:https://www.centraliens-nantes.org/fr/group/loire-atlantique-dep-44/123/calendar/forum-reflow-a-centrale-nantes-une-journee-d-exploration-de-la-demarche-low-tech/2026/03/12/4141
BEGIN:VALARM
TRIGGER:-P0DT1H0M0S
ACTION:DISPLAY
END:VALARM
END:VEVENT
END:VCALENDAR