BEGIN:VCALENDAR
VERSION:2.0
PRODID:-//hacksw/handcal//NONSGML v1.0//EN
BEGIN:VEVENT
DTSTART:20260305T091500Z
DTEND:20260305T111500Z
LOCATION:Campus Centrale Nantes - Amphi A \n1, Rue de la Noë \n44300 NANTES
ORGANIZER;CN=Angèle CAURANT - Loire Atlantique (dép. 44):MAILTO:angelecrnt2@gmail.com
SUMMARY:Les Matinales de la Transition Ecologique  "L'eau, une affaire d'état : les conflits autour de l'eau et leur régulation "
DESCRIPTION:Les Matinales de la Transition Écologique reviennent à Centrale Nantes  ! 4 jeudis matin, de 10h15 à 12h15, sont prévus au cours de l’année. L'année 2025-2026 sera axée autour de la thématique...
URL:https://www.centraliens-nantes.org/fr/group/loire-atlantique-dep-44/123/calendar/les-matinales-de-la-transition-ecologique-l-eau-une-affaire-d-etat-les-conflits-autour-de-l-eau-et-leur-regulation/2026/03/05/4050
BEGIN:VALARM
TRIGGER:-P0DT1H0M0S
ACTION:DISPLAY
END:VALARM
END:VEVENT
END:VCALENDAR