BEGIN:VCALENDAR
VERSION:2.0
PRODID:-//hacksw/handcal//NONSGML v1.0//EN
BEGIN:VEVENT
DTSTART:20260116T000000Z
DTEND:20260116T030000Z
LOCATION:Schneider Electric \n620, Memorial City Way \n77024 HOUSTON
ORGANIZER;CN=Didier GERMAIN - USA - Etats Unis:MAILTO:dhgermain@gmail.com
SUMMARY:Texas French Alumni Rencontre
DESCRIPTION:Rejoignez-nous Jeudi 15 Janvier à 18h pour partager un moment privilégié entre alumni des écoles françaises, autour d’un verre et de délicieux petits fours.\nNous aurons le plaisir d’être accueillis...
URL:https://www.centraliens-nantes.org/fr/group/usa-etats-unis/70/calendar/texas-french-alumni-rencontre/2026/01/16/4044
BEGIN:VALARM
TRIGGER:-P0DT1H0M0S
ACTION:DISPLAY
END:VALARM
END:VEVENT
END:VCALENDAR