BEGIN:VCALENDAR
VERSION:2.0
PRODID:-//hacksw/handcal//NONSGML v1.0//EN
BEGIN:VEVENT
DTSTART:20250624T160000Z
DTEND:20250624T200000Z
LOCATION:
ORGANIZER;CN=Eve-Emmanuelle MALIGORNE - Ain, Loire, Rhône, Métropole de Lyon (dép. 01, 42, 69):MAILTO:eve-emmanuelle.maligorne@ec-nantes.fr
SUMMARY:Visio-conférence "AI Engineering" mardi 24 juin à 18h
DESCRIPTION:Notre association IESF Lyon-RA s’est inscrite, depuis de nombreuses années, dans le cadre des actions internationales menées par la Région Auvergne-Rhône-Alpes. Elle contribue à ce titre à la...
URL:https://www.centraliens-nantes.org/fr/group/ain-loire-rhone-metropole-de-lyon-dep-01-42-69/35/calendar/visio-conference-ai-engineering-mardi-24-juin-a-18h/2025/06/24/3786
BEGIN:VALARM
TRIGGER:-P0DT1H0M0S
ACTION:DISPLAY
END:VALARM
END:VEVENT
END:VCALENDAR