BEGIN:VCALENDAR
VERSION:2.0
PRODID:-//hacksw/handcal//NONSGML v1.0//EN
BEGIN:VEVENT
DTSTART:20240111T190000Z
DTEND:20240111T220000Z
LOCATION:Cave à vins Le Coq Gourmand \n39, Rue Fort Notre Dame \n13001 MARSEILLE
ORGANIZER;CN=Alexis BOURDEAUX - Provence Alpes (dép. 04, 05, 13, 83, 84):MAILTO:alexis.bourdeaux@centraliens-nantes.com
SUMMARY:Soirée thématique, galette des rois & accueil des jeunes diplômés et nouveaux arrivants en Provence
DESCRIPTION:ET\nBuffet dînatoire avec vins et galettes / gâteaux des rois\nAccès en transport en commun : Métro Vieux-Port (7 min à pied)\nStationnement possible au parking Estienne d'Orves (3 min à pied) voire...
URL:https://www.centraliens-nantes.org/fr/group/provence-alpes-dep-04-05-13-83-84/26/calendar/soiree-thematique-galette-des-rois-accueil-des-jeunes-diplomes-et-nouveaux-arrivants-en-provence/2024/01/11/2665
BEGIN:VALARM
TRIGGER:-P0DT1H0M0S
ACTION:DISPLAY
END:VALARM
END:VEVENT
END:VCALENDAR