BEGIN:VCALENDAR
VERSION:2.0
PRODID:-//hacksw/handcal//NONSGML v1.0//EN
BEGIN:VEVENT
DTSTART:20230110T091500Z
DTEND:20230110T111500Z
LOCATION:Ecole Centrale de Nantes - Amphi A \n1 rue de la Noë \n44321 Nantes
ORGANIZER;CN=Erwan LORANT:MAILTO:erwan.lorant@orange.fr
SUMMARY:Antoine Hardy - "Quantifier le coût environnemental de la recherche ?" - Matinales de la Transition Ecologique
DESCRIPTION:[MATINALES] [Mardi 10 janvier] [10h15 - 12h15] Mardi 10 janvier à 10h15 aura lieu la 22e édition des Matinales de la Transition Écologique, la troisième de cette année 2022-2023 ! Nous aurons le...
URL:https://www.centraliens-nantes.org/fr/event/antoine-hardy-quantifier-le-cout-environnemental-de-la-recherche-matinales-de-la-transition-ecologique/2023/01/10/2018
BEGIN:VALARM
TRIGGER:-P0DT1H0M0S
ACTION:DISPLAY
END:VALARM
END:VEVENT
END:VCALENDAR