BEGIN:VCALENDAR
VERSION:2.0
PRODID:-//hacksw/handcal//NONSGML v1.0//EN
BEGIN:VEVENT
DTSTART:20200305T183000
DTEND:20200305T213000
LOCATION:19 Rue Blanche \n19 Rue Blanche \n75009 Paris
ORGANIZER;CN=Anastasia VIDEAU:MAILTO:
SUMMARY:(ANNULEE) Soirée #Shakeyourcareer / Les ingénieurs face aux compétences du 21ème siècle
DESCRIPTION:Comment faire la différence en tant qu'ingénieur face aux compétences du 21ième siècle?\nVous y inscrire\nÀ propos de cet événement\nCette conférence sera animée par Jérémy Lamri, auteur du livre "les...
URL:https://www.centraliens-nantes.org/fr/event/-annulee-soiree-shakeyourcareer-les-ingenieurs-face-aux-competences-du-21eme-siecle/2020/03/05/188
BEGIN:VALARM
TRIGGER:-P0DT1H0M0S
ACTION:DISPLAY
END:VALARM
END:VEVENT
END:VCALENDAR