BEGIN:VCALENDAR
VERSION:2.0
PRODID:-//hacksw/handcal//NONSGML v1.0//EN
BEGIN:VEVENT
DTSTART:20260326T180000Z
DTEND:20260326T200000Z
LOCATION:Campus Centrale Nantes - Amphi S \n1, Rue de la Noë \n44321 NANTES
ORGANIZER;CN=Eve-Emmanuelle MALIGORNE - Loire Atlantique (dép. 44):MAILTO:eve-emmanuelle.maligorne@ec-nantes.fr
SUMMARY:Conférence  - L'IA dans le domaine médical
DESCRIPTION:
URL:https://www.centraliens-nantes.org/en/group/loire-atlantique-dep-44/123/calendar/conference-l-ia-dans-le-domaine-medical/2026/03/26/4143
BEGIN:VALARM
TRIGGER:-P0DT1H0M0S
ACTION:DISPLAY
END:VALARM
END:VEVENT
END:VCALENDAR