BEGIN:VCALENDAR
VERSION:2.0
PRODID:-//hacksw/handcal//NONSGML v1.0//EN
BEGIN:VEVENT
DTSTART:20251112T173000Z
DTEND:20251112T210000Z
LOCATION:Santa Lucia, Niederdorf \n21, Marktgasse \n8001 ZURICH
ORGANIZER;CN=Laura Leoty - Suisse:MAILTO:laura.leoty@gmail.com
SUMMARY::tada: Afterwork Centraliens & Supélec à Zurich :tropical_drink:
DESCRIPTION:Chers Centraliens et Supélec de Suisse,Nous sommes ravis de vous convier à notre prochain afterwork pour un moment convivial entre alumni !📅 Mercredi 12 novembre à partir de 18h30\n📍 Santa Lucia,...
URL:https://www.centraliens-nantes.org/en/group/suisse/68/calendar/-tada-afterwork-centraliens-supelec-a-zurich-tropical-drink/2025/11/12/3984
BEGIN:VALARM
TRIGGER:-P0DT1H0M0S
ACTION:DISPLAY
END:VALARM
END:VEVENT
END:VCALENDAR