BEGIN:VCALENDAR
VERSION:2.0
PRODID:-//hacksw/handcal//NONSGML v1.0//EN
BEGIN:VEVENT
DTSTART:20250513T163000Z
DTEND:20250513T193000Z
LOCATION:La Scène \n190, Rue Pierre Duhem \n13290 AIX-EN-PROVENCE
ORGANIZER;CN=Alexis BOURDEAUX - Provence Alpes (dép. 04, 05, 13, 83, 84):MAILTO:alexis.bourdeaux@centraliens-nantes.com
SUMMARY:Afterwork / afterschool Centraliens Supélec à Aix
DESCRIPTION:\nDernier afterwork / afterschool à Aix avant la coupure estivale !\nViens réseauter dans la convivialité !\nViens nous retrouver ne serait-ce qu'un moment après les cours, le boulot ou tes activités ...
URL:https://www.centraliens-nantes.org/en/group/provence-alpes-dep-04-05-13-83-84/26/calendar/afterwork-afterschool-centraliens-supelec-a-aix/2025/05/13/3682
BEGIN:VALARM
TRIGGER:-P0DT1H0M0S
ACTION:DISPLAY
END:VALARM
END:VEVENT
END:VCALENDAR