BEGIN:VCALENDAR
VERSION:2.0
PRODID:-//hacksw/handcal//NONSGML v1.0//EN
BEGIN:VEVENT
DTSTART:20231005T100000Z
DTEND:20231005T110000Z
LOCATION:https://zoom.us/j/6432472671
ORGANIZER;CN=Clotilde NICOLAY:MAILTO:nicolayclotilde@gmail.com
SUMMARY:Mieux communiquer avec ceux qui ne vous ressemblent pas : découvrez le Process Communication Model (PCM)
DESCRIPTION:\nLe lien pour vous connecter : https://zoom.us/j/6432472671Il est plus facile de communiquer avec ceux qui nous ressemblent et qui ont les mêmes façons de fonctionner que nous. Pourtant, nous savons ...
URL:https://www.centraliens-nantes.org/en/event/mieux-communiquer-avec-ceux-qui-ne-vous-ressemblent-pas-decouvrez-le-process-communication-model-pcm/2023/10/05/2231
BEGIN:VALARM
TRIGGER:-P0DT1H0M0S
ACTION:DISPLAY
END:VALARM
END:VEVENT
END:VCALENDAR